BEGIN:VCALENDAR
VERSION:2.0
PRODID:-//eventon.com NONSGML v1.0//EN
CALSCALE:GREGORIAN
METHOD:PUBLISH
BEGIN:VEVENT
UID:69e73b7fd1156
DTSTAMP:20260421T085527Z
DTSTART:20220118T183000Z
DTEND:20220118T193000Z
LOCATION:
SUMMARY:Online Stress Management
DESCRIPTION:7 week online course designed to help people understand and man
 age stresses in their life.  January 11th 2022 &#8211; February 22nd 2022.
  Tuesday evenings 6.30 – 7.30 pm. For more information please call 01352 
 974430 or email enquiries@newmind.org.uk\nhttps://www.newmind.org.uk/events
 /online-stress-management-5/var/ri-1.l-L1
URL:https://www.newmind.org.uk/events/online-stress-management-5/var/ri-1.l-L1
END:VEVENT
END:VCALENDAR