BEGIN:VCALENDAR
VERSION:2.0
PRODID:-//eventon.com NONSGML v1.0//EN
CALSCALE:GREGORIAN
METHOD:PUBLISH
BEGIN:VEVENT
UID:69e73ca53e4a9
DTSTAMP:20260421T090021Z
DTSTART:20240213T193000Z
DTEND:20240213T210000Z
LOCATION:Broughton War Memorial Institute MAIN ROAD\,  BROUGHTON\,  FLINTSHIRE\,  CH4 0NR
SUMMARY:Drop In at Broughton War Memorial Institute
DESCRIPTION:A relaxed session where we get together with a brew and chat ab
 out life in general.  Please come along for as long or short a time as you
  like.  &nbsp; Location: Broughton War Memorial Institute\,  MAIN ROAD\,  
 BROUGHTON\,  FLINTSHIRE\,  CH4 0NR &nbsp; For further information please ca
 ll 01352 974430 or[..]\nhttps://www.newmind.org.uk/events/drop-in-at-brough
 ton-war-memorial-institute/
URL:https://www.newmind.org.uk/events/drop-in-at-broughton-war-memorial-institute/
END:VEVENT
END:VCALENDAR